BEGIN:VCALENDAR
VERSION:2.0
PRODID:-//Washington Council for Behavioral Health - ECPv6.0.5//NONSGML v1.0//EN
CALSCALE:GREGORIAN
METHOD:PUBLISH
X-WR-CALNAME:Washington Council for Behavioral Health
X-ORIGINAL-URL:https://www.thewashingtoncouncil.org
X-WR-CALDESC:Events for Washington Council for Behavioral Health
REFRESH-INTERVAL;VALUE=DURATION:PT1H
X-Robots-Tag:noindex
X-PUBLISHED-TTL:PT1H
BEGIN:VTIMEZONE
TZID:America/Los_Angeles
BEGIN:DAYLIGHT
TZOFFSETFROM:-0800
TZOFFSETTO:-0700
TZNAME:PDT
DTSTART:20150308T100000
END:DAYLIGHT
BEGIN:STANDARD
TZOFFSETFROM:-0700
TZOFFSETTO:-0800
TZNAME:PST
DTSTART:20151101T090000
END:STANDARD
END:VTIMEZONE
BEGIN:VEVENT
DTSTART;VALUE=DATE:20151016
DTEND;VALUE=DATE:20151017
DTSTAMP:20260419T165902
CREATED:20151023T000853Z
LAST-MODIFIED:20151023T001633Z
UID:253-1444953600-1445039999@www.thewashingtoncouncil.org
SUMMARY:Identifying\, Assessing\, & Responding to Suicide Risk
DESCRIPTION:This course will include research information from agencies such as the World Health Organization (WHO)\, the American Association of Suicidology (AAS)\, and the Substance Abuse and Mental Health Services Administration (SAMHSA) for an in-depth look at the prevalence of suicide\, the warning signs\, symptoms of depression\, and risk factors. Case examples\, stories\, research articles\, and interviews with professionals will be presented throughout the training with opportunities for participants to evaluate their own understanding of this subject. Greg will provide helpful risk assessment tools and present an approach he developed entitled\, “A.N.C.H.O.R. Management of Suicide Risk” that includes the key components for working effectively with suicidal clients. COURSE OBJECTIVES By the end of the training participants should be able to… \n\nIdentify the signs and symptoms of a suicidal client\nAccurately assess the client’s risk factors\nProvide a reasonable plan for the client’s safety & welfare\n\nCONTINUING EDUCATION CREDITS – Northwest Family Life is an NBCC-Approved Continuing Education Provider (ACEP) and may offer NBCC-approved clock hours for events that meet NBCC requirements. The ACEP solely is responsible for all aspects of the program. 6 CEs earned (Approved by WSDOH for Psychologists\, Social Workers\, Marriage & Family Therapists\, and Counselors); NBCC #6300. \nREGISTRATION – To register\, please email: gregwhite.trainings@gmail.com\, and put “Registration For (Date)” in the subject line and Greg will respond to confirm your registration. If your agency is interested in hosting this training\, the cost would be reduced to $100 per person (minimum 5 participants). \nIf you would like to contact Greg\, please do so at gregwhite.trainings@gmail.com; or call him at 425-263-7188. \nFEE (pay at the door with check made out to Gregory M. White\, MS; if using major credit card\, a processing fee of 2.82% will be added) NWFL Affiliates: $120 per person Non-Affiliates: $150 per person Agency Group Rates (2 or more): $120 per person LOCATION Northwest Family Life\, 11320 Roosevelt Way NE\, Seattle\, WA 98215 (co-located in the Roosevelt Law Firm building). There will be a 1 hour lunch break on your own; several restaurants are located nearby.
URL:https://www.thewashingtoncouncil.org/event/identifying-assessing-responding-to-suicide-risk/
LOCATION:Northwest Family Life co-located in the Roosevelt Law Firm building\, 11320 Roosevelt Way NE\, Seattle\, WA\, 98215\, United States
END:VEVENT
END:VCALENDAR