BEGIN:VCALENDAR
VERSION:2.0
PRODID:-//Washington Council for Behavioral Health - ECPv6.0.5//NONSGML v1.0//EN
CALSCALE:GREGORIAN
METHOD:PUBLISH
X-WR-CALNAME:Washington Council for Behavioral Health
X-ORIGINAL-URL:https://www.thewashingtoncouncil.org
X-WR-CALDESC:Events for Washington Council for Behavioral Health
REFRESH-INTERVAL;VALUE=DURATION:PT1H
X-Robots-Tag:noindex
X-PUBLISHED-TTL:PT1H
BEGIN:VTIMEZONE
TZID:America/Los_Angeles
BEGIN:DAYLIGHT
TZOFFSETFROM:-0800
TZOFFSETTO:-0700
TZNAME:PDT
DTSTART:20260308T100000
END:DAYLIGHT
BEGIN:STANDARD
TZOFFSETFROM:-0700
TZOFFSETTO:-0800
TZNAME:PST
DTSTART:20261101T090000
END:STANDARD
END:VTIMEZONE
BEGIN:VEVENT
DTSTART;TZID=America/Los_Angeles:20260420T150000
DTEND;TZID=America/Los_Angeles:20260420T160000
DTSTAMP:20260420T022746
CREATED:20260323T191838Z
LAST-MODIFIED:20260323T191838Z
UID:5303-1776697200-1776700800@www.thewashingtoncouncil.org
SUMMARY:Free! A Step at a Time: Implementing and Sustaining Psychiatric Rehabilitation Practices
DESCRIPTION:Meaningful recovery is about more than just feeling better\, it’s about developing the skills and supports needed to navigate daily life. Psychiatric rehabilitation focuses on helping people strengthen daily living\, work\, and community participation skills while equipping staff to support that growth in their settings. Join national consultant and practitioner Lamarr Lewis for a two-part event designed to help organizations bring psychiatric rehabilitation practices to life and keep them thriving. \n  \nLearn more & register: https://www.cmhisupport.org/event/a-step-at-a-time-implementing-and-sustaining-psychiatric-rehabilitation-practices/2026-04-20/
URL:https://www.thewashingtoncouncil.org/event/free-a-step-at-a-time-implementing-and-sustaining-psychiatric-rehabilitation-practices/
END:VEVENT
END:VCALENDAR